BEGIN:VCALENDAR
VERSION:2.0
PRODID:-//Eventin//Event Calendar//EN
CALSCALE:GREGORIAN
METHOD:PUBLISH
BEGIN:VEVENT
UID:b36478e79e295e3f2a48718dd456be39@crypto-events.ru
SUMMARY:Начинаем сезон новогодних кампаний O
 KX с призовым пулом в 1 200 000 USDT!
DESCRIPTION:Как извлечь максимальную выгоду и
 з праздничного сезона:\n\n\n\nТоргуйте и пол
 учайте мгновенные награды под "Крипто-ел
 кой".\n\n\n\nРазделите радость праздника с д
 рузьями — вы и приглашенные вами друзья 
 получите по 25 USDT в новогодней реферально
 й кампании.\n\n\n\nДля новичков: Получите до 
 50 USDT за первую сделку и торговлю в специа
 льной кампании.\n\n\n\nНа этом подарки не за
 канчиваются — следите за новостями в наш
 ем канале.\n\n\n\nНе пропустите новогодний с
 негопад подарков от #OKX!\n\n\n\n\nполучить наг
 рады
LOCATION:Online
DTSTAMP:20260421T155953Z
DTSTART:20260420T210000Z
DTEND:20260421T205900Z
END:VEVENT
END:VCALENDAR
